BEGIN:VCALENDAR
VERSION:2.0
PRODID:-//wp-events-plugin.com//7.2.3.1//EN
TZID:America/Los_Angeles
X-WR-TIMEZONE:America/Los_Angeles
BEGIN:VEVENT
UID:466@tusvelo.com
DTSTART;TZID=America/Phoenix:20250331T090000
DTEND;TZID=America/Phoenix:20250331T090000
DTSTAMP:20250330T153857Z
URL:https://www.tusvelo.com/events/tv-ride/
SUMMARY:TV - Club Ride
DESCRIPTION:\nRead the Club’s liability waiver and understand that your p
 articipation in a ride constitutes acceptance of the waiver. The waiver is
  found&nbsp\;here.\n\n\n\nBefore you join ANY TV ride\, read this page whi
 ch spells out what is expected from you.\n\n\n\nIf you are not a Tucson Ve
 lo member and want to join us for a ride\, use the Contact page to request
  links and maps sent via email.\n\n\n\nLink to the route: (you must be log
 ged in and have active membership to see this next section)\n\n\n\n[pms-re
 strict subscription_plans="202"]\n\n\n\n\nRoute: Decibel Coffee Ride (28 M
 iles 485 Elevation)\n\n\n\n\n[/pms-restrict]\n\n\n\n\n
CATEGORIES:TV Ride
LOCATION:Crossroads Silverbell park\, 7548 North Silverbell Road\, Marana\,
  AZ\, 85743\, United States
GEO:32.348697;-111.093293
X-APPLE-STRUCTURED-LOCATION;VALUE=URI;X-ADDRESS=7548 North Silverbell Road\
 , Marana\, AZ\, 85743\, United States;X-APPLE-RADIUS=100;X-TITLE=Crossroad
 s Silverbell park:geo:32.348697,-111.093293
END:VEVENT
BEGIN:VTIMEZONE
TZID:America/Phoenix
X-LIC-LOCATION:America/Phoenix
BEGIN:STANDARD
DTSTART:20240331T090000
TZOFFSETFROM:-0700
TZOFFSETTO:-0700
TZNAME:MST
END:STANDARD
END:VTIMEZONE
END:VCALENDAR