BEGIN:VCALENDAR
VERSION:2.0
PRODID:-//wp-events-plugin.com//7.2.3.1//EN
TZID:America/Los_Angeles
X-WR-TIMEZONE:America/Los_Angeles
BEGIN:VEVENT
UID:398@tusvelo.com
DTSTART;TZID=America/Phoenix:20241118T100000
DTEND;TZID=America/Phoenix:20241118T100000
DTSTAMP:20241116T151217Z
URL:https://www.tusvelo.com/events/tv-club-ride/
SUMMARY:TV - Club Ride
DESCRIPTION:\nRead the Club’s liability waiver and understand that your p
 articipation in a ride constitutes acceptance of the waiver. The waiver is
  found&nbsp\;here.\n\n\n\nBefore you join ANY PV ride\, read this page whi
 ch spells out what is expected from you.\n\n\n\nMonday November 18\, 2024\
 n\n\n\nTV - Decibel Coffee Ride\n\n\n\nIf you are not a Portland Velo memb
 er and want to join us for a ride\, use the Contact page to request links 
 and maps sent via email.\n\n\n\nLink to the route: (you must be logged in 
 and have active membership to see this next section)\n\n\n\n[pms-restrict 
 subscription_plans="202"]\n\n\n\n\nRoute: Decibel Coffee This ride starts 
 at the junction of the Santa Cruz and the CdO\n\n\n\n\n[/pms-restrict]\n\n
 \n\n\n
CATEGORIES:TV Ride
END:VEVENT
BEGIN:VTIMEZONE
TZID:America/Phoenix
X-LIC-LOCATION:America/Phoenix
BEGIN:STANDARD
DTSTART:20231119T100000
TZOFFSETFROM:-0700
TZOFFSETTO:-0700
TZNAME:MST
END:STANDARD
END:VTIMEZONE
END:VCALENDAR