BEGIN:VCALENDAR
VERSION:2.0
PRODID:-//wp-events-plugin.com//7.2.3.1//EN
TZID:America/Los_Angeles
X-WR-TIMEZONE:America/Los_Angeles
BEGIN:VEVENT
UID:445@tusvelo.com
DTSTART;TZID=America/Phoenix:20250130T110000
DTEND;TZID=America/Phoenix:20250130T110000
DTSTAMP:20250128T224646Z
URL:https://www.tusvelo.com/events/tv-club-ride-giro-di-giovedi/
SUMMARY:TV - Club Ride - Giro di Giovedi...
DESCRIPTION:\nBefore you join ANY TV ride\, read this page which spells out
  what is expected from you.\n\n\n\nIf you are not a Tucson Velo member and
  want to join us for a ride\, use the Contact page to request links and ma
 ps sent via email.\n\n\n\nLink to the route: (you must be logged in and ha
 ve active membership to see this next section)\n\n\n\n[pms-restrict subscr
 iption_plans="202"]\n\n\n\n\nRoute: Brueggers-CdO-Santa Cruz (45 Miles\, 1
 147 Feet)\n\n\n\n\n[/pms-restrict]\n\n\n\n-----&gt\; The history of Giro d
 el Mercoledì...\n\n\n\n\n
ATTACH;FMTTYPE=image/jpeg:https://www.tusvelo.com/wp-content/uploads/2024/
 12/Blue-Madonna-del-Ghisallo-1-scaled.jpg
CATEGORIES:TV Ride
LOCATION:Brueggers Bagels\, Address     11165 N La Canada Dr\, Tucson\, AZ\
 , 85737\, United States
GEO:32.409223;-110.996396
X-APPLE-STRUCTURED-LOCATION;VALUE=URI;X-ADDRESS=Address     11165 N La Cana
 da Dr\, Tucson\, AZ\, 85737\, United States;X-APPLE-RADIUS=100;X-TITLE=Bru
 eggers Bagels:geo:32.409223,-110.996396
END:VEVENT
BEGIN:VTIMEZONE
TZID:America/Phoenix
X-LIC-LOCATION:America/Phoenix
BEGIN:STANDARD
DTSTART:20240131T110000
TZOFFSETFROM:-0700
TZOFFSETTO:-0700
TZNAME:MST
END:STANDARD
END:VTIMEZONE
END:VCALENDAR