BEGIN:VCALENDAR
VERSION:2.0
PRODID:-//wp-events-plugin.com//7.2.3.1//EN
TZID:America/Los_Angeles
X-WR-TIMEZONE:America/Los_Angeles
BEGIN:VEVENT
UID:449@tusvelo.com
DTSTART;TZID=America/Phoenix:20250212T100000
DTEND;TZID=America/Phoenix:20250212T100000
DTSTAMP:20250202T144037Z
URL:https://www.tusvelo.com/events/tv-club-ride-giro-del-mercoledi-8/
SUMMARY:TV - Club Ride - Giro del Mercoledi
DESCRIPTION:\nBefore you join ANY TV ride\, read this page which spells out
  what is expected from you.\n\n\n\nIf you are not a Tucson Velo member and
  want to join us for a ride\, use the Contact page to request links and ma
 ps sent via email.\n\n\n\nLink to the route: (you must be logged in and ha
 ve active membership to see this next section)\n\n\n\n[pms-restrict subscr
 iption_plans="202"]\n\n\n\n\nRoute: Catalina Low Hills (43.6 Miles\, 1868 
 Feet)\n\n\n\n\n[/pms-restrict]\n\n\n\n-----&gt\; The history of Giro del M
 ercoledì...\n\n\n\n\n
ATTACH;FMTTYPE=image/jpeg:https://www.tusvelo.com/wp-content/uploads/2024/
 12/Blue-Madonna-del-Ghisallo-1-scaled.jpg
CATEGORIES:TV Ride
LOCATION:Rillito Park Race Track\, 4502 N 1st Ave.\, Tucson\, AZ\, 85718\, 
 United States
GEO:32.289604;-110.960211
X-APPLE-STRUCTURED-LOCATION;VALUE=URI;X-ADDRESS=4502 N 1st Ave.\, Tucson\, 
 AZ\, 85718\, United States;X-APPLE-RADIUS=100;X-TITLE=Rillito Park Race Tr
 ack:geo:32.289604,-110.960211
END:VEVENT
BEGIN:VTIMEZONE
TZID:America/Phoenix
X-LIC-LOCATION:America/Phoenix
BEGIN:STANDARD
DTSTART:20240213T100000
TZOFFSETFROM:-0700
TZOFFSETTO:-0700
TZNAME:MST
END:STANDARD
END:VTIMEZONE
END:VCALENDAR