BEGIN:VCALENDAR
VERSION:2.0
PRODID:-//wp-events-plugin.com//7.2.3.1//EN
TZID:America/Los_Angeles
X-WR-TIMEZONE:America/Los_Angeles
BEGIN:VEVENT
UID:436@tusvelo.com
DTSTART;TZID=America/Phoenix:20250122T100000
DTEND;TZID=America/Phoenix:20250122T100000
DTSTAMP:20250121T200405Z
URL:https://www.tusvelo.com/events/tv-club-ride-giro-del-mercoledi-4/
SUMMARY:TV - Club Ride - Giro del Mercoledi
DESCRIPTION:\nJanuary 22\,2025\n\n\n\nBefore you join ANY PV ride\, read th
 is page which spells out what is expected from you.\n\n\n\nIf you are not 
 a Tucson Velo member and want to join us for a ride\, use the Contact page
  to request links and maps sent via email.\n\n\n\nLink to the route: (you 
 must be logged in and have active membership to see this next section)\n\n
 \n\n[pms-restrict subscription_plans="202"]\n\n\n\n\nRoute: CW Loop from C
 dlT (54 Miles\, 1000 Feet)\n\n\n\n\n[/pms-restrict]\n\n\n\n-----&gt\; The 
 history of Giro del Mercoledì...\n\n\n\n\n
ATTACH;FMTTYPE=image/jpeg:https://www.tusvelo.com/wp-content/uploads/2024/
 12/Blue-Madonna-del-Ghisallo-1-scaled.jpg
CATEGORIES:TV Ride
LOCATION:Rillito River Park\, 5602 N Camino De La Tiera \, Tucson\, AZ\, 85
 705\, United States
GEO:32.309038;-111.036657
X-APPLE-STRUCTURED-LOCATION;VALUE=URI;X-ADDRESS=5602 N Camino De La Tiera \
 , Tucson\, AZ\, 85705\, United States;X-APPLE-RADIUS=100;X-TITLE=Rillito R
 iver Park:geo:32.309038,-111.036657
END:VEVENT
BEGIN:VTIMEZONE
TZID:America/Phoenix
X-LIC-LOCATION:America/Phoenix
BEGIN:STANDARD
DTSTART:20240123T100000
TZOFFSETFROM:-0700
TZOFFSETTO:-0700
TZNAME:MST
END:STANDARD
END:VTIMEZONE
END:VCALENDAR