BEGIN:VCALENDAR
VERSION:2.0
PRODID:-//wp-events-plugin.com//7.2.3.1//EN
TZID:America/Los_Angeles
X-WR-TIMEZONE:America/Los_Angeles
BEGIN:VEVENT
UID:422@tusvelo.com
DTSTART;TZID=America/Phoenix:20241225T100000
DTEND;TZID=America/Phoenix:20241225T100000
DTSTAMP:20241217T172050Z
URL:https://www.tusvelo.com/events/tv-club-ride-giro-del-mercoledi-2024-12
 -25/
SUMMARY:Merry Christmas - No Ride Scheduled
DESCRIPTION:\n\n\n\n\n\n\n\n\n\n
CATEGORIES:TV Ride
END:VEVENT
BEGIN:VTIMEZONE
TZID:America/Phoenix
X-LIC-LOCATION:America/Phoenix
BEGIN:STANDARD
DTSTART:20231226T100000
TZOFFSETFROM:-0700
TZOFFSETTO:-0700
TZNAME:MST
END:STANDARD
END:VTIMEZONE
END:VCALENDAR