BEGIN:VCALENDAR
VERSION:2.0
PRODID:-//wp-events-plugin.com//7.2.3.1//EN
TZID:America/Los_Angeles
X-WR-TIMEZONE:America/Los_Angeles
BEGIN:VEVENT
UID:413@tusvelo.com
DTSTART;TZID=America/Phoenix:20241211T100000
DTEND;TZID=America/Phoenix:20241211T100000
DTSTAMP:20241203T193715Z
URL:https://www.tusvelo.com/events/tv-club-ride-giro-del-mercoledi-2024-12
 -11/
SUMMARY:TV - Club Ride – Giro del Mercoledì
DESCRIPTION:\nRead the Club’s liability waiver and understand that your p
 articipation in a ride constitutes acceptance of the waiver. The waiver is
  found&nbsp\;here.\n\n\n\nBefore you join ANY PV ride\, read this page whi
 ch spells out what is expected from you.\n\n\n\nIf you are not a Tucson Ve
 lo member and want to join us for a ride\, use the Contact page to request
  links and maps sent via email.\n\n\n\nLink to the route: (you must be log
 ged in and have active membership to see this next section)\n\n\n\n[pms-re
 strict subscription_plans="202"]\n\n\n\n\nRoute: CW Loop from CdlT (54 Mil
 es 1100Feet)\n\n\n\n\n[/pms-restrict]\n\n\n\n-----> The history of Giro de
 l Mercoledì...\n
CATEGORIES:TV Ride
LOCATION:Rillito River Park\, 5602 N Camino De La Tierra\, Tucson\, AZ\, 85
 705\, United States
GEO:32.309038;-111.036657
X-APPLE-STRUCTURED-LOCATION;VALUE=URI;X-ADDRESS=5602 N Camino De La Tierra\
 , Tucson\, AZ\, 85705\, United States;X-APPLE-RADIUS=100;X-TITLE=Rillito R
 iver Park:geo:32.309038,-111.036657
END:VEVENT
BEGIN:VTIMEZONE
TZID:America/Phoenix
X-LIC-LOCATION:America/Phoenix
BEGIN:STANDARD
DTSTART:20231212T100000
TZOFFSETFROM:-0700
TZOFFSETTO:-0700
TZNAME:MST
END:STANDARD
END:VTIMEZONE
END:VCALENDAR