BEGIN:VCALENDAR
VERSION:2.0
PRODID:-//wp-events-plugin.com//7.2.3.1//EN
TZID:America/Los_Angeles
X-WR-TIMEZONE:America/Los_Angeles
BEGIN:VEVENT
UID:408@tusvelo.com
DTSTART;TZID=America/Phoenix:20241127T100000
DTEND;TZID=America/Phoenix:20241127T100000
DTSTAMP:20241125T154806Z
URL:https://www.tusvelo.com/events/tv-club-ride-giro-del-mercoledi-2024-11
 -27/
SUMMARY:TV Club Ride - Giro del Mercoledi
DESCRIPTION:\nTriple Bypass  (1800 Feet\, 35 Miles)\n\n\n\nMeet up at the P
 ark on Camino De La Tierra &amp\; The Loop\n\n\n\n\n
CATEGORIES:TV Ride
LOCATION:Rillito River Park\, 5602 N Camino De La Tierra\, Tucson\, AZ\, 85
 705\, United States
GEO:32.309038;-111.036657
X-APPLE-STRUCTURED-LOCATION;VALUE=URI;X-ADDRESS=5602 N Camino De La Tierra\
 , Tucson\, AZ\, 85705\, United States;X-APPLE-RADIUS=100;X-TITLE=Rillito R
 iver Park:geo:32.309038,-111.036657
END:VEVENT
BEGIN:VTIMEZONE
TZID:America/Phoenix
X-LIC-LOCATION:America/Phoenix
BEGIN:STANDARD
DTSTART:20231128T100000
TZOFFSETFROM:-0700
TZOFFSETTO:-0700
TZNAME:MST
END:STANDARD
END:VTIMEZONE
END:VCALENDAR