BEGIN:VCALENDAR
VERSION:2.0
PRODID:-//wp-events-plugin.com//7.2.3.1//EN
TZID:America/Los_Angeles
X-WR-TIMEZONE:America/Los_Angeles
BEGIN:VEVENT
UID:427@tusvelo.com
DTSTART;TZID=America/Phoenix:20250101T100000
DTEND;TZID=America/Phoenix:20250101T100000
DTSTAMP:20241224T195701Z
URL:https://www.tusvelo.com/events/tv-club-ride-giro-del-mercoledi-2/
SUMMARY:TV - Club Ride – Giro del Mercoledì
DESCRIPTION:\nRead the Club’s liability waiver and understand that your p
 articipation in a ride constitutes acceptance of the waiver. The waiver is
  found&nbsp\;here.\n\n\n\nBefore you join ANY PV ride\, read this page whi
 ch spells out what is expected from you.\n\n\n\nIf you are not a Tucson Ve
 lo member and want to join us for a ride\, use the Contact page to request
  links and maps sent via email.\n\n\n\nLink to the route: (you must be log
 ged in and have active membership to see this next section)\n\n\n\n[pms-re
 strict subscription_plans="202"]\n\n\n\n\nRoute: New Years Day San Xavier 
 Metric Century (61.9 Miles\, 1322 Feet)\n\n\n\n\n[/pms-restrict]\n\n\n\n--
 ---&gt\; The history of Giro del Mercoledì...\n\n\n\n\n
CATEGORIES:TV Ride
LOCATION:Rillito Park Race Track\, 4502 N 1st Ave.\, Tucson\, AZ\, 85718\, 
 United States
GEO:32.289604;-110.960211
X-APPLE-STRUCTURED-LOCATION;VALUE=URI;X-ADDRESS=4502 N 1st Ave.\, Tucson\, 
 AZ\, 85718\, United States;X-APPLE-RADIUS=100;X-TITLE=Rillito Park Race Tr
 ack:geo:32.289604,-110.960211
END:VEVENT
BEGIN:VTIMEZONE
TZID:America/Phoenix
X-LIC-LOCATION:America/Phoenix
BEGIN:STANDARD
DTSTART:20240102T100000
TZOFFSETFROM:-0700
TZOFFSETTO:-0700
TZNAME:MST
END:STANDARD
END:VTIMEZONE
END:VCALENDAR