BEGIN:VCALENDAR
VERSION:2.0
PRODID:-//wp-events-plugin.com//7.2.3.1//EN
TZID:America/Los_Angeles
X-WR-TIMEZONE:America/Los_Angeles
BEGIN:VEVENT
UID:475@tusvelo.com
DTSTART;TZID=America/Phoenix:20250402T090000
DTEND;TZID=America/Phoenix:20250402T090000
DTSTAMP:20250401T143722Z
URL:https://www.tusvelo.com/events/tv-club-ride-giro-del-mercoledi-14/
SUMMARY:TV - Club Ride – Giro del Mercoledì
DESCRIPTION:\nRead the Club’s liability waiver and understand that your p
 articipation in a ride constitutes acceptance of the waiver. The waiver is
  found&nbsp\;here.\n\n\n\nBefore you join ANY TV ride\, read this page whi
 ch spells out what is expected from you.\n\n\n\nIf you are not a Tucson Ve
 lo member and want to join us for a ride\, use the Contact page to request
  links and maps sent via email.\n\n\n\nLink to the route: (you must be log
 ged in and have active membership to see this next section)\n\n\n\n[pms-re
 strict subscription_plans="202"]\n\n\n\n\nRoute: Copper Cafe-Marana (38 Mi
 les\, 488 Feet)\n\n\n\n\n[/pms-restrict]\n\n\n\n-----&gt\; The history of 
 Giro del Mercoledì...\n\n\n\n\n
ATTACH;FMTTYPE=image/jpeg:https://www.tusvelo.com/wp-content/uploads/2024/
 11/TV_pic1-scaled.jpg
CATEGORIES:TV Ride
LOCATION:Dan Felix Memorial Park\, 5790 N Camino De La Tierra\, Tucson\, AZ
 \, 85741\, United States
GEO:32.31224;-111.037368
X-APPLE-STRUCTURED-LOCATION;VALUE=URI;X-ADDRESS=5790 N Camino De La Tierra\
 , Tucson\, AZ\, 85741\, United States;X-APPLE-RADIUS=100;X-TITLE=Dan Felix
  Memorial Park:geo:32.31224,-111.037368
END:VEVENT
BEGIN:VTIMEZONE
TZID:America/Phoenix
X-LIC-LOCATION:America/Phoenix
BEGIN:STANDARD
DTSTART:20240402T090000
TZOFFSETFROM:-0700
TZOFFSETTO:-0700
TZNAME:MST
END:STANDARD
END:VTIMEZONE
END:VCALENDAR