BEGIN:VCALENDAR
VERSION:2.0
PRODID:-//wp-events-plugin.com//7.2.3.1//EN
TZID:America/Los_Angeles
X-WR-TIMEZONE:America/Los_Angeles
BEGIN:VEVENT
UID:471@tusvelo.com
DTSTART;TZID=America/Phoenix:20250319T090000
DTEND;TZID=America/Phoenix:20250319T090000
DTSTAMP:20250313T184951Z
URL:https://www.tusvelo.com/events/tv-club-ride-giro-del-mercoledi-13/
SUMMARY:TV - Club Ride – Giro del Mercoledì
DESCRIPTION:\nRead the Club’s liability waiver and understand that your p
 articipation in a ride constitutes acceptance of the waiver. The waiver is
  found&nbsp\;here.\n\n\n\nBefore you join ANY TV ride\, read this page whi
 ch spells out what is expected from you.\n\n\n\nIf you are not a Tucson Ve
 lo member and want to join us for a ride\, use the Contact page to request
  links and maps sent via email.\n\n\n\nLink to the route: (you must be log
 ged in and have active membership to see this next section)\n\n\n\n[pms-re
 strict subscription_plans="202"]\n\n\n\n\nRoute: Brueggers-CdO-Santa Cruz 
 (45 Miles\, 1150 Feet)\n\n\n\n\n[/pms-restrict]\n\n\n\n-----&gt\; The hist
 ory of Giro del Mercoledì...\n\n\n\n\n
ATTACH;FMTTYPE=image/jpeg:https://www.tusvelo.com/wp-content/uploads/2024/
 11/TV_pic1-scaled.jpg
CATEGORIES:TV Ride
LOCATION:Brueggers Bagels\, Address     11165 N La Canada Dr\, Tucson\, AZ\
 , 85737\, United States
GEO:32.409223;-110.996396
X-APPLE-STRUCTURED-LOCATION;VALUE=URI;X-ADDRESS=Address     11165 N La Cana
 da Dr\, Tucson\, AZ\, 85737\, United States;X-APPLE-RADIUS=100;X-TITLE=Bru
 eggers Bagels:geo:32.409223,-110.996396
END:VEVENT
BEGIN:VTIMEZONE
TZID:America/Phoenix
X-LIC-LOCATION:America/Phoenix
BEGIN:STANDARD
DTSTART:20240319T090000
TZOFFSETFROM:-0700
TZOFFSETTO:-0700
TZNAME:MST
END:STANDARD
END:VTIMEZONE
END:VCALENDAR