BEGIN:VCALENDAR
VERSION:2.0
PRODID:-//wp-events-plugin.com//7.2.3.1//EN
TZID:America/Los_Angeles
X-WR-TIMEZONE:America/Los_Angeles
BEGIN:VEVENT
UID:467@tusvelo.com
DTSTART;TZID=America/Phoenix:20250326T090000
DTEND;TZID=America/Phoenix:20250326T090000
DTSTAMP:20250313T184608Z
URL:https://www.tusvelo.com/events/tv-club-ride-giro-del-mercoledi-12/
SUMMARY:TV - Club Ride – Giro del Mercoledì
DESCRIPTION:\nRead the Club’s liability waiver and understand that your p
 articipation in a ride constitutes acceptance of the waiver. The waiver is
  found&nbsp\;here.\n\n\n\nBefore you join ANY TV ride\, read this page whi
 ch spells out what is expected from you.\n\n\n\nIf you are not a Tucson Ve
 lo member and want to join us for a ride\, use the Contact page to request
  links and maps sent via email.\n\n\n\nLink to the route: (you must be log
 ged in and have active membership to see this next section)\n\n\n\n[pms-re
 strict subscription_plans="202"]\n\n\n\n\nRoute: Special Ride from Jim Len
 hart's (38 Miles\, 1700 Feet)\n\n\n\n\n[/pms-restrict]\n\n\n\n-----&gt\; T
 he history of Giro del Mercoledì...\n\n\n\n\n
ATTACH;FMTTYPE=image/jpeg:https://www.tusvelo.com/wp-content/uploads/2024/
 11/TV_pic1-scaled.jpg
CATEGORIES:TV Ride
LOCATION:Jim Lenhart's House\, 11800 E High Saguaro Place\, Tucson\, AZ\, U
 nited States
GEO:32.300204;-110.736417
X-APPLE-STRUCTURED-LOCATION;VALUE=URI;X-ADDRESS=11800 E High Saguaro Place\
 , Tucson\, AZ\, United States;X-APPLE-RADIUS=100;X-TITLE=Jim Lenhart's Hou
 se:geo:32.300204,-110.736417
END:VEVENT
BEGIN:VTIMEZONE
TZID:America/Phoenix
X-LIC-LOCATION:America/Phoenix
BEGIN:STANDARD
DTSTART:20240326T090000
TZOFFSETFROM:-0700
TZOFFSETTO:-0700
TZNAME:MST
END:STANDARD
END:VTIMEZONE
END:VCALENDAR