BEGIN:VCALENDAR
VERSION:2.0
PRODID:-//wp-events-plugin.com//7.2.3.1//EN
TZID:America/Los_Angeles
X-WR-TIMEZONE:America/Los_Angeles
BEGIN:VEVENT
UID:480@tusvelo.com
DTSTART;TZID=America/Phoenix:20250409T080000
DTEND;TZID=America/Phoenix:20250409T080000
DTSTAMP:20250407T224407Z
URL:https://www.tusvelo.com/events/tv-club-ride-6-2/
SUMMARY:Its A Birthday Ride
DESCRIPTION:\nRead the Club’s liability waiver and understand that your p
 articipation in a ride constitutes acceptance of the waiver. The waiver is
  found&nbsp\;here.\n\n\n\nBefore you join ANY TV ride\, read this page whi
 ch spells out what is expected from you.\n\n\n\n\n\n\n\nTV - Birthday Ride
 \n\n\n\nThis is a moderate tempo ride that starts and ends at Village Bake
 house.  Route goes through OVCC\, around Rancho Vistoso and out Tangerine 
 to Twin Peaks.  After the descent on Twin Peaks\, through Continental Ranc
 h and then over to Via Entrada\, Christy and Magee.  Come enjoy the birthd
 ay celebration!\n\n\n\nIf you are not a Tucson Velo member and want to joi
 n us for a ride\, use the Contact page to request links and maps sent via 
 email.Link to the route: (you must be logged in and have active membership
  to see this next section)\n\n\n\n\n\n\n\n[pms-restrict subscription_plans
 ="202"]\n\n\n\n\n\n\n\n\nRoute: Birthday Ride 52.9 Miles 1813 Elevation Ga
 in\n\n\n\n\n[/pms-restrict]\n
CATEGORIES:TV Ride
LOCATION:Village Bakehouse\, 7882 N Oracle Rd.\, Tucson\, AZ\, 85704\, Unit
 ed States
GEO:32.350495;-110.973762
X-APPLE-STRUCTURED-LOCATION;VALUE=URI;X-ADDRESS=7882 N Oracle Rd.\, Tucson\
 , AZ\, 85704\, United States;X-APPLE-RADIUS=100;X-TITLE=Village Bakehouse:
 geo:32.350495,-110.973762
END:VEVENT
BEGIN:VTIMEZONE
TZID:America/Phoenix
X-LIC-LOCATION:America/Phoenix
BEGIN:STANDARD
DTSTART:20240409T080000
TZOFFSETFROM:-0700
TZOFFSETTO:-0700
TZNAME:MST
END:STANDARD
END:VTIMEZONE
END:VCALENDAR