BEGIN:VCALENDAR
VERSION:2.0
PRODID:-//wp-events-plugin.com//7.2.3.1//EN
TZID:America/Los_Angeles
X-WR-TIMEZONE:America/Los_Angeles
BEGIN:VEVENT
UID:588@tusvelo.com
DTSTART;TZID=America/Phoenix:20260427T083000
DTEND;TZID=America/Phoenix:20260427T083000
DTSTAMP:20260412T220714Z
URL:https://www.tusvelo.com/events/tv-club-ride-52/
SUMMARY:TV - Club Ride
DESCRIPTION:\nRead the Club’s liability waiver and understand that your p
 articipation in a ride constitutes acceptance of the waiver. The waiver is
  found&nbsp\;here.\n\n\n\nBefore you join ANY PV ride\, read this page whi
 ch spells out what is expected from you.\n\n\n\nMonday April 27\, 2026\n\n
 \n\nRoute starts and ends at Crossroads Park in Marana\, on the west side 
 of Wheeler Taft Abbett Library. A second meetup occurs 15-20 minutes after
  the initial start time at the wide spot at the junction of the Rillito an
 d Santa Cruz paths\, affectionately known as Stinky Corner. Those coming f
 rom the east side can meet the group at Ren approximately 45 minutes after
  the initial start time and then do the remaining route with the group bac
 k to the Santa Cruz path and head back east to your start point.\n\n\n\n\n
 \n\n\nIf you are not a Tucson Velo member and want to join us for a ride\,
  use the Contact page to request links and maps sent via email.\n\n\n\nLin
 k to the route: (you must be logged in and have active membership to see t
 his next section)\n\n\n\n[pms-restrict subscription_plans="202"]\n\n\n\n\n
 Route: Ren Coffeehouse Loop (30 miles\, 700 feet elevation)\n\n\n\n\n[/pms
 -restrict]\n\n\n\n\n
CATEGORIES:TV Ride
LOCATION:Crossroads Silverbell park\, 7548 North Silverbell Road\, Marana\,
  AZ\, 85743\, United States
GEO:32.348697;-111.093293
X-APPLE-STRUCTURED-LOCATION;VALUE=URI;X-ADDRESS=7548 North Silverbell Road\
 , Marana\, AZ\, 85743\, United States;X-APPLE-RADIUS=100;X-TITLE=Crossroad
 s Silverbell park:geo:32.348697,-111.093293
END:VEVENT
BEGIN:VTIMEZONE
TZID:America/Phoenix
X-LIC-LOCATION:America/Phoenix
BEGIN:STANDARD
DTSTART:20250427T083000
TZOFFSETFROM:-0700
TZOFFSETTO:-0700
TZNAME:MST
END:STANDARD
END:VTIMEZONE
END:VCALENDAR