BEGIN:VCALENDAR
VERSION:2.0
PRODID:-//wp-events-plugin.com//7.2.3.1//EN
TZID:America/Los_Angeles
X-WR-TIMEZONE:America/Los_Angeles
BEGIN:VEVENT
UID:555@tusvelo.com
DTSTART;TZID=America/Phoenix:20260211T090000
DTEND;TZID=America/Phoenix:20260211T090000
DTSTAMP:20260128T002121Z
URL:https://www.tusvelo.com/events/tv-club-ride-42/
SUMMARY:TV - Club Ride
DESCRIPTION:\nRead the Club’s liability waiver and understand that your p
 articipation in a ride constitutes acceptance of the waiver. The waiver is
  found&nbsp\;here.\n\n\n\nBefore you join ANY PV ride\, read this page whi
 ch spells out what is expected from you.\n\n\n\nIf you are not a Tucson Ve
 lo member and want to join us for a ride\, use the Contact page to request
  links and maps sent via email.\n\n\n\nLink to the route: (you must be log
 ged in and have active membership to see this next section)\n\n\n\n[pms-re
 strict subscription_plans="202"]\n\n\n\n\nRoute: Ren to SNPE (42 Miles\, 1
 420 Feet)\n\n\n\n\n[/pms-restrict]\n\n\n\n\n\n\n\n\n
ATTACH;FMTTYPE=image/jpeg:https://www.tusvelo.com/wp-content/uploads/2024/
 11/TV_pic1-scaled.jpg
CATEGORIES:TV Ride
LOCATION:Ren Coffeehouse\, 4300 N Campbell Ave\, Tucson\, AZ\, 85718\, Unit
 ed States
GEO:32.285319;-110.943352
X-APPLE-STRUCTURED-LOCATION;VALUE=URI;X-ADDRESS=4300 N Campbell Ave\, Tucso
 n\, AZ\, 85718\, United States;X-APPLE-RADIUS=100;X-TITLE=Ren Coffeehouse:
 geo:32.285319,-110.943352
END:VEVENT
BEGIN:VTIMEZONE
TZID:America/Phoenix
X-LIC-LOCATION:America/Phoenix
BEGIN:STANDARD
DTSTART:20250211T090000
TZOFFSETFROM:-0700
TZOFFSETTO:-0700
TZNAME:MST
END:STANDARD
END:VTIMEZONE
END:VCALENDAR