BEGIN:VCALENDAR
VERSION:2.0
PRODID:-//wp-events-plugin.com//7.2.3.1//EN
TZID:America/Los_Angeles
X-WR-TIMEZONE:America/Los_Angeles
BEGIN:VEVENT
UID:535@tusvelo.com
DTSTART;TZID=America/Phoenix:20251229T100000
DTEND;TZID=America/Phoenix:20251229T100000
DTSTAMP:20251227T140658Z
URL:https://www.tusvelo.com/events/tv-club-ride-36/
SUMMARY:TV - Club Ride
DESCRIPTION:\nRead the Club’s liability waiver and understand that your p
 articipation in a ride constitutes acceptance of the waiver. The waiver is
  found&nbsp\;here.\n\n\n\nBefore you join ANY PV ride\, read this page whi
 ch spells out what is expected from you.\n\n\n\nMonday December 29\, 2026\
 n\n\n\nRoute starts and ends at Crossroads Park in Marana\, on the west si
 de of Wheeler Taft Abbett Library. A second meetup occurs 15-20 minutes af
 ter the initial start time at the wide spot at the junction of the Rillito
  and Santa Cruz paths\, affectionately known as Stinky Corner.\n\n\n\n\n\n
 \n\nIf you are not a Tucson Velo member and want to join us for a ride\, u
 se the Contact page to request links and maps sent via email.\n\n\n\nLink 
 to the route: (you must be logged in and have active membership to see thi
 s next section)\n\n\n\n[pms-restrict subscription_plans="202"]\n\n\n\n\nRo
 ute: Decibel Coffee Ride - Crossroads (28 Miles 510 Feet)\n\n\n\n\n[/pms-r
 estrict]\n\n\n\n\n
ATTACH;FMTTYPE=image/jpeg:https://www.tusvelo.com/wp-content/uploads/2024/
 11/Decibel-scaled.jpg
CATEGORIES:TV Ride
LOCATION:Crossroads Silverbell park\, 7548 North Silverbell Road\, Marana\,
  AZ\, 85743\, United States
GEO:32.348697;-111.093293
X-APPLE-STRUCTURED-LOCATION;VALUE=URI;X-ADDRESS=7548 North Silverbell Road\
 , Marana\, AZ\, 85743\, United States;X-APPLE-RADIUS=100;X-TITLE=Crossroad
 s Silverbell park:geo:32.348697,-111.093293
END:VEVENT
BEGIN:VTIMEZONE
TZID:America/Phoenix
X-LIC-LOCATION:America/Phoenix
BEGIN:STANDARD
DTSTART:20241229T100000
TZOFFSETFROM:-0700
TZOFFSETTO:-0700
TZNAME:MST
END:STANDARD
END:VTIMEZONE
END:VCALENDAR