BEGIN:VCALENDAR
VERSION:2.0
PRODID:-//wp-events-plugin.com//7.2.3.1//EN
TZID:America/Los_Angeles
X-WR-TIMEZONE:America/Los_Angeles
BEGIN:VEVENT
UID:502@tusvelo.com
DTSTART;TZID=America/Phoenix:20250531T070000
DTEND;TZID=America/Phoenix:20250531T070000
DTSTAMP:20250526T195720Z
URL:https://www.tusvelo.com/events/tv-club-ride-21/
SUMMARY:TV - Club Ride
DESCRIPTION:\nRead the Club’s liability waiver and understand that your p
 articipation in a ride constitutes acceptance of the waiver. The waiver is
  found&nbsp\;here.\n\n\n\nBefore you join ANY PV ride\, read this page whi
 ch spells out what is expected from you.\n\n\n\nSaturday May 31\, 2025\n\n
 \n\nA moderate route with some climbing to keep things interesting includi
 ng CSP\, OVCC\, Magee/Christy and Via Entrada.   A perfect route for the l
 ast day of May.  If you are not a Tucson Velo member and want to join us f
 or a ride\, use the Contact page to request links and maps sent via email.
 \n\n\n\nLink to the route: (you must be logged in and have active membersh
 ip to see this next section)\n\n\n\n[pms-restrict subscription_plans="202"
 ]\n\n\n\n\nCSP OVCC Via Entrada (43 miles 1500 feet of elevation)\n\n\n\n\
 n[/pms-restrict]\n\n\n\n\n
ATTACH;FMTTYPE=image/jpeg:https://www.tusvelo.com/wp-content/uploads/2024/
 12/Brueggers.jpg
CATEGORIES:TV Ride
LOCATION:Brueggers Bagels\, Address     11165 N La Canada Dr\, Tucson\, AZ\
 , 85737\, United States
GEO:32.409223;-110.996396
X-APPLE-STRUCTURED-LOCATION;VALUE=URI;X-ADDRESS=Address     11165 N La Cana
 da Dr\, Tucson\, AZ\, 85737\, United States;X-APPLE-RADIUS=100;X-TITLE=Bru
 eggers Bagels:geo:32.409223,-110.996396
END:VEVENT
BEGIN:VTIMEZONE
TZID:America/Phoenix
X-LIC-LOCATION:America/Phoenix
BEGIN:STANDARD
DTSTART:20240531T070000
TZOFFSETFROM:-0700
TZOFFSETTO:-0700
TZNAME:MST
END:STANDARD
END:VTIMEZONE
END:VCALENDAR