BEGIN:VCALENDAR
VERSION:2.0
PRODID:-//wp-events-plugin.com//7.2.3.1//EN
TZID:America/Los_Angeles
X-WR-TIMEZONE:America/Los_Angeles
BEGIN:VEVENT
UID:578@tusvelo.com
DTSTART;TZID=America/Phoenix:20260325T083000
DTEND;TZID=America/Phoenix:20260325T083000
DTSTAMP:20260326T202959Z
URL:https://www.tusvelo.com/events/tv-club-ride-2026-03-25/
SUMMARY:TV - Club Ride
DESCRIPTION:\nRead the Club’s liability waiver and understand that your p
 articipation in a ride constitutes acceptance of the waiver. The waiver is
  found&nbsp\;here.\n\n\n\nBefore you join ANY PV ride\, read this page whi
 ch spells out what is expected from you.\n\n\n\nSaturday March 7\,2026\n\n
 \n\nIf you are not a Portland Velo member and want to join us for a ride\,
  use the Contact page to request links and maps sent via email.\n\n\n\nLin
 k to the route: (you must be logged in and have active membership to see t
 his next section)\n\n\n\n[pms-restrict subscription_plans="202"]\n\n\n\n\n
 Route: West Hills and New Neighborhood (49 Miles 2200 Feet)\n\n\n\n\n[/pms
 -restrict]\n\n\n\n\n
ATTACH;FMTTYPE=image/jpeg:https://www.tusvelo.com/wp-content/uploads/2026/
 03/20260325_104735-scaled.jpg
CATEGORIES:TV Ride
LOCATION:Rillito River Race Track\, 13477 North Heritage Gateway\, Tucson\,
  Arizona\, 85718\, United States
GEO:32.28892;-110.954442
X-APPLE-STRUCTURED-LOCATION;VALUE=URI;X-ADDRESS=13477 North Heritage Gatewa
 y\, Tucson\, Arizona\, 85718\, United States;X-APPLE-RADIUS=100;X-TITLE=Ri
 llito River Race Track:geo:32.28892,-110.954442
END:VEVENT
BEGIN:VTIMEZONE
TZID:America/Phoenix
X-LIC-LOCATION:America/Phoenix
BEGIN:STANDARD
DTSTART:20250325T083000
TZOFFSETFROM:-0700
TZOFFSETTO:-0700
TZNAME:MST
END:STANDARD
END:VTIMEZONE
END:VCALENDAR