BEGIN:VCALENDAR
VERSION:2.0
PRODID:-//wp-events-plugin.com//7.2.3.1//EN
TZID:America/Los_Angeles
X-WR-TIMEZONE:America/Los_Angeles
BEGIN:VEVENT
UID:574@tusvelo.com
DTSTART;TZID=America/Phoenix:20260314T080000
DTEND;TZID=America/Phoenix:20260314T080000
DTSTAMP:20260226T184707Z
URL:https://www.tusvelo.com/events/tv-club-ride-2026-03-14/
SUMMARY:TV - Club Ride
DESCRIPTION:\nSaturday March 14\, 2026\n\n\n\nBefore you join ANY TV ride\,
  read this page which spells out what is expected from you.\n\n\n\nIf you 
 are not a Tucson Velo member and want to join us for a ride\, use the Cont
 act page to request links and maps sent via email.\n\n\n\nLink to the rout
 e: (you must be logged in and have active membership to see this next sect
 ion)\n\n\n\n[pms-restrict subscription_plans="202"]\n\n\n\n\nRoute: Moore 
 Ritz DM Park (40 Miles\, 1970 Feet)\n\n\n\n\n[/pms-restrict]\n\n\n\n\n\n\n
 \n\n
ATTACH;FMTTYPE=image/jpeg:https://www.tusvelo.com/wp-content/uploads/2024/
 12/Village-1.jpg
CATEGORIES:TV Ride
LOCATION:Beyond Bread\, 421 W Ina Rd\,\, Tucson\, AZ\, 85704\, United State
 s
GEO:32.336423;-110.976137
X-APPLE-STRUCTURED-LOCATION;VALUE=URI;X-ADDRESS=421 W Ina Rd\,\, Tucson\, A
 Z\, 85704\, United States;X-APPLE-RADIUS=100;X-TITLE=Beyond Bread:geo:32.3
 36423,-110.976137
END:VEVENT
BEGIN:VTIMEZONE
TZID:America/Phoenix
X-LIC-LOCATION:America/Phoenix
BEGIN:STANDARD
DTSTART:20250314T080000
TZOFFSETFROM:-0700
TZOFFSETTO:-0700
TZNAME:MST
END:STANDARD
END:VTIMEZONE
END:VCALENDAR