BEGIN:VCALENDAR
VERSION:2.0
PRODID:-//wp-events-plugin.com//7.2.3.1//EN
TZID:America/Los_Angeles
X-WR-TIMEZONE:America/Los_Angeles
BEGIN:VEVENT
UID:563@tusvelo.com
DTSTART;TZID=America/Phoenix:20260221T093000
DTEND;TZID=America/Phoenix:20260221T093000
DTSTAMP:20260215T195432Z
URL:https://www.tusvelo.com/events/tv-club-ride-2026-02-21/
SUMMARY:TV - Club Ride
DESCRIPTION:\nRead the Club’s liability waiver and understand that your p
 articipation in a ride constitutes acceptance of the waiver. The waiver is
  found&nbsp\;here.\n\n\n\nBefore you join ANY TV ride\, read this page whi
 ch spells out what is expected from you.\n\n\n\nSaturday February 21\, 202
 6\n\n\n\nIf you are not a Tucson Velo member and want to join us for a rid
 e\, use the Contact page to request links and maps sent via email.\n\n\n\n
 Link to the route: (you must be logged in and have active membership to se
 e this next section)\n\n\n\n[pms-restrict subscription_plans="202"]\n\n\n\
 n\nTV Crested Tour (45 Miles 1950 Feet)\n\n\n\n\n[/pms-restrict]\n\n\n\n\n
ATTACH;FMTTYPE=image/jpeg:https://www.tusvelo.com/wp-content/uploads/2026/
 02/Crested-SM-1-scaled.jpg
CATEGORIES:TV Ride
LOCATION:Beyond Bread\, 421 W Ina Rd\,\, Tucson\, AZ\, 85704\, United State
 s
GEO:32.336423;-110.976137
X-APPLE-STRUCTURED-LOCATION;VALUE=URI;X-ADDRESS=421 W Ina Rd\,\, Tucson\, A
 Z\, 85704\, United States;X-APPLE-RADIUS=100;X-TITLE=Beyond Bread:geo:32.3
 36423,-110.976137
END:VEVENT
BEGIN:VTIMEZONE
TZID:America/Phoenix
X-LIC-LOCATION:America/Phoenix
BEGIN:STANDARD
DTSTART:20250221T093000
TZOFFSETFROM:-0700
TZOFFSETTO:-0700
TZNAME:MST
END:STANDARD
END:VTIMEZONE
END:VCALENDAR