BEGIN:VCALENDAR
VERSION:2.0
PRODID:-//wp-events-plugin.com//7.2.3.1//EN
TZID:America/Los_Angeles
X-WR-TIMEZONE:America/Los_Angeles
BEGIN:VEVENT
UID:565@tusvelo.com
DTSTART;TZID=America/Phoenix:20260218T090000
DTEND;TZID=America/Phoenix:20260218T090000
DTSTAMP:20260217T213445Z
URL:https://www.tusvelo.com/events/tv-club-ride-2026-02-18/
SUMMARY:TV - Club Ride
DESCRIPTION:\nWednesday February 18\, 2026\n\n\n\nBefore you join ANY TV ri
 de\, read this page which spells out what is expected from you.\n\n\n\nIf 
 you are not a Tucson Velo member and want to join us for a ride\, use the 
 Contact page to request links and maps sent via email.\n\n\n\nLink to the 
 route: (you must be logged in and have active membership to see this next 
 section)\n\n\n\n[pms-restrict subscription_plans="202"]\n\n\n\n\nRoute: Or
 o Fruits\, Metals and Nuts (41 Miles\, 1960 Feet)\n\n\n\n\n[/pms-restrict]
 \n\n\n\n\n\n\n\n\n
ATTACH;FMTTYPE=image/jpeg:https://www.tusvelo.com/wp-content/uploads/2024/
 12/Village-1.jpg
CATEGORIES:TV Ride
LOCATION:Beyond Bread\, 421 W Ina Rd\,\, Tucson\, AZ\, 85704\, United State
 s
GEO:32.336423;-110.976137
X-APPLE-STRUCTURED-LOCATION;VALUE=URI;X-ADDRESS=421 W Ina Rd\,\, Tucson\, A
 Z\, 85704\, United States;X-APPLE-RADIUS=100;X-TITLE=Beyond Bread:geo:32.3
 36423,-110.976137
END:VEVENT
BEGIN:VTIMEZONE
TZID:America/Phoenix
X-LIC-LOCATION:America/Phoenix
BEGIN:STANDARD
DTSTART:20250218T090000
TZOFFSETFROM:-0700
TZOFFSETTO:-0700
TZNAME:MST
END:STANDARD
END:VTIMEZONE
END:VCALENDAR