BEGIN:VCALENDAR
VERSION:2.0
PRODID:-//wp-events-plugin.com//7.2.3.1//EN
TZID:America/Los_Angeles
X-WR-TIMEZONE:America/Los_Angeles
BEGIN:VEVENT
UID:562@tusvelo.com
DTSTART;TZID=America/Phoenix:20260214T090000
DTEND;TZID=America/Phoenix:20260214T090000
DTSTAMP:20260202T234849Z
URL:https://www.tusvelo.com/events/tv-club-ride-2026-02-14/
SUMMARY:TV - Club Ride
DESCRIPTION:\nWednesday February 14\,2026\n\n\n\nBefore you join ANY TV rid
 e\, read this page which spells out what is expected from you.\n\n\n\nIf y
 ou are not a Tucson Velo member and want to join us for a ride\, use the C
 ontact page to request links and maps sent via email.\n\n\n\nLink to the r
 oute: (you must be logged in and have active membership to see this next s
 ection)\n\n\n\n[pms-restrict subscription_plans="202"]\n\n\n\n\nRoute: Sce
 nic Dr-Catalina-OV (42 Miles\, 1200 Feet)\n\n\n\n\n[/pms-restrict]\n\n\n\n
 \n\n\n\n\n
CATEGORIES:TV Ride
LOCATION:Village Bakehouse\, 7882 N Oracle Rd.\, Tucson\, AZ\, 85704\, Unit
 ed States
GEO:32.350495;-110.973762
X-APPLE-STRUCTURED-LOCATION;VALUE=URI;X-ADDRESS=7882 N Oracle Rd.\, Tucson\
 , AZ\, 85704\, United States;X-APPLE-RADIUS=100;X-TITLE=Village Bakehouse:
 geo:32.350495,-110.973762
END:VEVENT
BEGIN:VTIMEZONE
TZID:America/Phoenix
X-LIC-LOCATION:America/Phoenix
BEGIN:STANDARD
DTSTART:20250214T090000
TZOFFSETFROM:-0700
TZOFFSETTO:-0700
TZNAME:MST
END:STANDARD
END:VTIMEZONE
END:VCALENDAR