BEGIN:VCALENDAR
VERSION:2.0
PRODID:-//wp-events-plugin.com//7.2.3.1//EN
TZID:America/Los_Angeles
X-WR-TIMEZONE:America/Los_Angeles
BEGIN:VEVENT
UID:572@tusvelo.com
DTSTART;TZID=America/Phoenix:20260311T080000
DTEND;TZID=America/Phoenix:20260311T080000
DTSTAMP:20260222T225951Z
URL:https://www.tusvelo.com/events/tv-club-ride-2026-02-11/
SUMMARY:TV - Club Ride
DESCRIPTION:\nWednesday Wednesday March 11\, 2026\n\n\n\nBefore you join AN
 Y TV ride\, read this page which spells out what is expected from you.\n\n
 \n\nIf you are not a Tucson Velo member and want to join us for a ride\, u
 se the Contact page to request links and maps sent via email.\n\n\n\nLink 
 to the route: (you must be logged in and have active membership to see thi
 s next section)\n\n\n\n[pms-restrict subscription_plans="202"]\n\n\n\n\nRo
 ute: OV CSP Via Entrada (48 Miles\, 1630 Feet)\n\n\n\n\n[/pms-restrict]\n\
 n\n\n\n\n\n\n\n
ATTACH;FMTTYPE=image/jpeg:https://www.tusvelo.com/wp-content/uploads/2024/
 12/Brueggers.jpg
CATEGORIES:TV Ride
LOCATION:Brueggers Bagels\, Address     11165 N La Canada Dr\, Tucson\, AZ\
 , 85737\, United States
GEO:32.409223;-110.996396
X-APPLE-STRUCTURED-LOCATION;VALUE=URI;X-ADDRESS=Address     11165 N La Cana
 da Dr\, Tucson\, AZ\, 85737\, United States;X-APPLE-RADIUS=100;X-TITLE=Bru
 eggers Bagels:geo:32.409223,-110.996396
END:VEVENT
BEGIN:VTIMEZONE
TZID:America/Phoenix
X-LIC-LOCATION:America/Phoenix
BEGIN:STANDARD
DTSTART:20250311T080000
TZOFFSETFROM:-0700
TZOFFSETTO:-0700
TZNAME:MST
END:STANDARD
END:VTIMEZONE
END:VCALENDAR