BEGIN:VCALENDAR
VERSION:2.0
PRODID:-//wp-events-plugin.com//7.2.3.1//EN
TZID:America/Los_Angeles
X-WR-TIMEZONE:America/Los_Angeles
BEGIN:VEVENT
UID:552@tusvelo.com
DTSTART;TZID=America/Phoenix:20260207T090000
DTEND;TZID=America/Phoenix:20260207T090000
DTSTAMP:20260120T172335Z
URL:https://www.tusvelo.com/events/tv-club-ride-2026-02-07/
SUMMARY:TV - Club Ride
DESCRIPTION:\nSaturday February 7\, 2026\n\n\n\nBefore you join ANY TV ride
 \, read this page which spells out what is expected from you.\n\n\n\nIf yo
 u are not a Tucson Velo member and want to join us for a ride\, use the Co
 ntact page to request links and maps sent via email.\n\n\n\nLink to the ro
 ute: (you must be logged in and have active membership to see this next se
 ction)\n\n\n\n[pms-restrict subscription_plans="202"]\n\n\n\n\nRoute: Star
 r Pass - Decibel (41 Miles\, 1160 Feet)\n\n\n\n\n[/pms-restrict]\n\n\n\n\n
 \n\n\n\n
CATEGORIES:TV Ride
LOCATION:Rillito Park Race Track\, 4502 N 1st Ave.\, Tucson\, AZ\, 85718\, 
 United States
GEO:32.289604;-110.960211
X-APPLE-STRUCTURED-LOCATION;VALUE=URI;X-ADDRESS=4502 N 1st Ave.\, Tucson\, 
 AZ\, 85718\, United States;X-APPLE-RADIUS=100;X-TITLE=Rillito Park Race Tr
 ack:geo:32.289604,-110.960211
END:VEVENT
BEGIN:VTIMEZONE
TZID:America/Phoenix
X-LIC-LOCATION:America/Phoenix
BEGIN:STANDARD
DTSTART:20250207T090000
TZOFFSETFROM:-0700
TZOFFSETTO:-0700
TZNAME:MST
END:STANDARD
END:VTIMEZONE
END:VCALENDAR