BEGIN:VCALENDAR
VERSION:2.0
PRODID:-//wp-events-plugin.com//7.2.3.1//EN
TZID:America/Los_Angeles
X-WR-TIMEZONE:America/Los_Angeles
BEGIN:VEVENT
UID:554@tusvelo.com
DTSTART;TZID=America/Phoenix:20260204T090000
DTEND;TZID=America/Phoenix:20260204T090000
DTSTAMP:20260128T001630Z
URL:https://www.tusvelo.com/events/tv-club-ride-2026-02-04/
SUMMARY:TV - Club Ride
DESCRIPTION:\nRead the Club’s liability waiver and understand that your p
 articipation in a ride constitutes acceptance of the waiver. The waiver is
  found&nbsp\;here.\n\n\n\nBefore you join ANY TV ride\, read this page whi
 ch spells out what is expected from you.\n\n\n\nWednesday February 4\, 202
 6\n\n\n\nIf you are not a Tucson Velo member and want to join us for a rid
 e\, use the Contact page to request links and maps sent via email.\n\n\n\n
 Link to the route: (you must be logged in and have active membership to se
 e this next section)\n\n\n\n[pms-restrict subscription_plans="202"]\n\n\n\
 n\nDove Mountain- The Tunnel (47 Miles 3000 Feet)\n\n\n\n\n[/pms-restrict]
 \n\n\n\n\n
ATTACH;FMTTYPE=image/jpeg:https://www.tusvelo.com/wp-content/uploads/2024/
 12/Brueggers.jpg
CATEGORIES:TV Ride
LOCATION:Brueggers Bagels\, Address     11165 N La Canada Dr\, Tucson\, AZ\
 , 85737\, United States
GEO:32.409223;-110.996396
X-APPLE-STRUCTURED-LOCATION;VALUE=URI;X-ADDRESS=Address     11165 N La Cana
 da Dr\, Tucson\, AZ\, 85737\, United States;X-APPLE-RADIUS=100;X-TITLE=Bru
 eggers Bagels:geo:32.409223,-110.996396
END:VEVENT
BEGIN:VTIMEZONE
TZID:America/Phoenix
X-LIC-LOCATION:America/Phoenix
BEGIN:STANDARD
DTSTART:20250204T090000
TZOFFSETFROM:-0700
TZOFFSETTO:-0700
TZNAME:MST
END:STANDARD
END:VTIMEZONE
END:VCALENDAR