BEGIN:VCALENDAR
VERSION:2.0
PRODID:-//wp-events-plugin.com//7.2.3.1//EN
TZID:America/Los_Angeles
X-WR-TIMEZONE:America/Los_Angeles
BEGIN:VEVENT
UID:522@tusvelo.com
DTSTART;TZID=America/Phoenix:20260117T093000
DTEND;TZID=America/Phoenix:20260117T093000
DTSTAMP:20251216T152222Z
URL:https://www.tusvelo.com/events/tv-club-ride-2026-01-17/
SUMMARY:TV - Adventure Ride
DESCRIPTION:\nRead the Club’s liability waiver and understand that your p
 articipation in a ride constitutes acceptance of the waiver. The waiver is
  found&nbsp\;here.\n\n\n\nBefore you join ANY TV ride\, read this page whi
 ch spells out what is expected from you.\n\n\n\nSaturday January 17\, 2026
 \n\n\n\nIf you are not a Tucson Velo member and want to join us for a ride
 \, use the Contact page to request links and maps sent via email.\n\n\n\nL
 ink to the route: (you must be logged in and have active membership to see
  this next section)\n\n\n\n[pms-restrict subscription_plans="202"]\n\n\n\n
 \nSan Manuel. from Oracle with Cody Loop (48 Miles 3\,300 Feet)\n\n\n\n\n[
 /pms-restrict]\n\n\n\n\n
CATEGORIES:TV Ride
LOCATION:Oracle Post Office\, 905 E American Ave\, Oracle\, AZ\, 85623\, Un
 ited States
GEO:32.610319;-110.763978
X-APPLE-STRUCTURED-LOCATION;VALUE=URI;X-ADDRESS=905 E American Ave\, Oracle
 \, AZ\, 85623\, United States;X-APPLE-RADIUS=100;X-TITLE=Oracle Post Offic
 e:geo:32.610319,-110.763978
END:VEVENT
BEGIN:VTIMEZONE
TZID:America/Phoenix
X-LIC-LOCATION:America/Phoenix
BEGIN:STANDARD
DTSTART:20250117T093000
TZOFFSETFROM:-0700
TZOFFSETTO:-0700
TZNAME:MST
END:STANDARD
END:VTIMEZONE
END:VCALENDAR