BEGIN:VCALENDAR
VERSION:2.0
PRODID:-//wp-events-plugin.com//7.2.3.1//EN
TZID:America/Los_Angeles
X-WR-TIMEZONE:America/Los_Angeles
BEGIN:VEVENT
UID:536@tusvelo.com
DTSTART;TZID=America/Phoenix:20260103T100000
DTEND;TZID=America/Phoenix:20260103T100000
DTSTAMP:20251226T151536Z
URL:https://www.tusvelo.com/events/tv-club-ride-2026-01-03/
SUMMARY:TV - Club Ride
DESCRIPTION:\nRead the Club’s liability waiver and understand that your p
 articipation in a ride constitutes acceptance of the waiver. The waiver is
  found&nbsp\;here.\n\n\n\nBefore you join ANY TV ride\, read this page whi
 ch spells out what is expected from you.\n\n\n\nSaturday January 3\, 2026\
 n\n\n\nIf you are not a Tucson Velo member and want to join us for a ride\
 , use the Contact page to request links and maps sent via email.\n\n\n\nLi
 nk to the route: (you must be logged in and have active membership to see 
 this next section)\n\n\n\n[pms-restrict subscription_plans="202"]\n\n\n\n\
 nOV CSP Sky Park (41 Miles 1600 Feet)\n\n\n\n\n[/pms-restrict]\n\n\n\n\n
CATEGORIES:TV Ride
LOCATION:Riverfront Park\, 551 W Lambert Ln\, ORO VALLEY\, AZ\, 85737\, Uni
 ted States
GEO:32.397333;-110.976743
X-APPLE-STRUCTURED-LOCATION;VALUE=URI;X-ADDRESS=551 W Lambert Ln\, ORO VALL
 EY\, AZ\, 85737\, United States;X-APPLE-RADIUS=100;X-TITLE=Riverfront Park
 :geo:32.397333,-110.976743
END:VEVENT
BEGIN:VTIMEZONE
TZID:America/Phoenix
X-LIC-LOCATION:America/Phoenix
BEGIN:STANDARD
DTSTART:20250103T100000
TZOFFSETFROM:-0700
TZOFFSETTO:-0700
TZNAME:MST
END:STANDARD
END:VTIMEZONE
END:VCALENDAR