BEGIN:VCALENDAR
VERSION:2.0
PRODID:-//wp-events-plugin.com//7.2.3.1//EN
TZID:America/Los_Angeles
X-WR-TIMEZONE:America/Los_Angeles
BEGIN:VEVENT
UID:492@tusvelo.com
DTSTART;TZID=America/Phoenix:20250503T080000
DTEND;TZID=America/Phoenix:20250503T080000
DTSTAMP:20250427T205934Z
URL:https://www.tusvelo.com/events/tv-club-ride-2025-05-03/
SUMMARY:TV - Club Ride - Ice Cream
DESCRIPTION:\nRead the Club’s liability waiver and understand that your p
 articipation in a ride constitutes acceptance of the waiver. The waiver is
  found&nbsp\;here.\n\n\n\nBefore you join ANY TV ride\, read this page whi
 ch spells out what is expected from you.\n\n\n\nSaturday May 3\, 2025\n\n\
 n\nIf you are not a Tucson Velo member and want to join us for a ride\, us
 e the Contact page to request links and maps sent via email.\n\n\n\nLink t
 o the route: (you must be logged in and have active membership to see this
  next section)\n\n\n\n[pms-restrict subscription_plans="202"]\n\n\n\n\nScr
 umdiddlys (45 Miles 1310 Feet)\n\n\n\n\n[/pms-restrict]\n\n\n\n\n
CATEGORIES:TV Ride
LOCATION:Walgreens\, 12050 N DOVE MOUNTAIN BLVD\, Marana\, Arizona\, 85658\
 , United States
GEO:32.425595;-111.077752
X-APPLE-STRUCTURED-LOCATION;VALUE=URI;X-ADDRESS=12050 N DOVE MOUNTAIN BLVD\
 , Marana\, Arizona\, 85658\, United States;X-APPLE-RADIUS=100;X-TITLE=Walg
 reens:geo:32.425595,-111.077752
END:VEVENT
BEGIN:VTIMEZONE
TZID:America/Phoenix
X-LIC-LOCATION:America/Phoenix
BEGIN:STANDARD
DTSTART:20240503T080000
TZOFFSETFROM:-0700
TZOFFSETTO:-0700
TZNAME:MST
END:STANDARD
END:VTIMEZONE
END:VCALENDAR