BEGIN:VCALENDAR
VERSION:2.0
PRODID:-//wp-events-plugin.com//7.2.3.1//EN
TZID:America/Los_Angeles
X-WR-TIMEZONE:America/Los_Angeles
BEGIN:VEVENT
UID:484@tusvelo.com
DTSTART;TZID=America/Phoenix:20250412T080000
DTEND;TZID=America/Phoenix:20250412T080000
DTSTAMP:20250408T205426Z
URL:https://www.tusvelo.com/events/tv-club-ride-2025-04-12-3/
SUMMARY:TV - Club Ride
DESCRIPTION:\nRead the Club’s liability waiver and understand that your p
 articipation in a ride constitutes acceptance of the waiver. The waiver is
  found&nbsp\;here.\n\n\n\nBefore you join ANY TV ride\, read this page whi
 ch spells out what is expected from you.\n\n\n\nSaturday April 12\, 2025\n
 \n\n\nIf you are not a Tucson Velo member and want to join us for a ride\,
  use the Contact page to request links and maps sent via email.\n\n\n\nLin
 k to the route: (you must be logged in and have active membership to see t
 his next section)\n\n\n\n[pms-restrict subscription_plans="202"]\n\n\n\n\n
 Oro Fruits\, Metals and Nuts (42 Miles 2000 Feet)\n\n\n\n\n[/pms-restrict]
 \n\n\n\n\n
CATEGORIES:TV Ride
LOCATION:Beyond Bread\, 421 W Ina Rd\,\, Tucson\, AZ\, 85704\, United State
 s
GEO:32.336423;-110.976137
X-APPLE-STRUCTURED-LOCATION;VALUE=URI;X-ADDRESS=421 W Ina Rd\,\, Tucson\, A
 Z\, 85704\, United States;X-APPLE-RADIUS=100;X-TITLE=Beyond Bread:geo:32.3
 36423,-110.976137
END:VEVENT
BEGIN:VTIMEZONE
TZID:America/Phoenix
X-LIC-LOCATION:America/Phoenix
BEGIN:STANDARD
DTSTART:20240412T080000
TZOFFSETFROM:-0700
TZOFFSETTO:-0700
TZNAME:MST
END:STANDARD
END:VTIMEZONE
END:VCALENDAR