BEGIN:VCALENDAR
VERSION:2.0
PRODID:-//wp-events-plugin.com//7.2.3.1//EN
TZID:America/Los_Angeles
X-WR-TIMEZONE:America/Los_Angeles
BEGIN:VEVENT
UID:483@tusvelo.com
DTSTART;TZID=America/Phoenix:20250412T193000
DTEND;TZID=America/Phoenix:20250412T193000
DTSTAMP:20250408T203901Z
URL:https://www.tusvelo.com/events/tv-club-ride-2025-04-12-2/
SUMMARY:TV - Club Ride - Full Moon
DESCRIPTION:\nRead the Club’s liability waiver and understand that your p
 articipation in a ride constitutes acceptance of the waiver. The waiver is
  found&nbsp\;here.\n\n\n\nBefore you join ANY PV ride\, read this page whi
 ch spells out what is expected from you.\n\n\n\nSaturday April 12\, 2025\n
 \n\n\nIf you are not a Tucson Velo member and want to join us for a ride\,
  use the Contact page to request links and maps sent via email.\n\n\n\nLin
 k to the route: (you must be logged in and have active membership to see t
 his next section)\n\n\n\n[pms-restrict subscription_plans="202"]\n\n\n\n\n
 Full Moon SNPE (12.5 Miles 761 Feet)\n\n\n\n\n[/pms-restrict]\n\n\n\n\n
CATEGORIES:TV Ride
LOCATION:Desert Gardens Cumberland Church\, 10851 E Old Spanish Trail \, Tu
 cson\, Arizona\, 85748\, United States
GEO:32.192374;-110.761012
X-APPLE-STRUCTURED-LOCATION;VALUE=URI;X-ADDRESS=10851 E Old Spanish Trail \
 , Tucson\, Arizona\, 85748\, United States;X-APPLE-RADIUS=100;X-TITLE=Dese
 rt Gardens Cumberland Church:geo:32.192374,-110.761012
END:VEVENT
BEGIN:VTIMEZONE
TZID:America/Phoenix
X-LIC-LOCATION:America/Phoenix
BEGIN:STANDARD
DTSTART:20240412T193000
TZOFFSETFROM:-0700
TZOFFSETTO:-0700
TZNAME:MST
END:STANDARD
END:VTIMEZONE
END:VCALENDAR