BEGIN:VCALENDAR
VERSION:2.0
PRODID:-//wp-events-plugin.com//7.2.3.1//EN
TZID:America/Los_Angeles
X-WR-TIMEZONE:America/Los_Angeles
BEGIN:VEVENT
UID:452@tusvelo.com
DTSTART;TZID=America/Phoenix:20250322T090000
DTEND;TZID=America/Phoenix:20250322T090000
DTSTAMP:20250315T011957Z
URL:https://www.tusvelo.com/events/tv-club-ride-2025-03-22/
SUMMARY:TV - Club Ride
DESCRIPTION:\nSaturday March 22\, 2025\n\n\n\nThe gathering location for th
 e ride is near the parking lot on the NW corner with Solar Panel awnings.\
 n\n\n\nBefore you join ANY TV ride\, read this page which spells out what 
 is expected from you.\n\n\n\nIf you are not a Tucson Velo member and want 
 to join us for a ride\, use the Contact page to request links and maps sen
 t via email.\n\n\n\nLink to the route: (you must be logged in and have act
 ive membership to see this next section)\n\n\n\n[pms-restrict subscription
 _plans="202"]\n\n\n\n\nRoute: Udall - Pistol Hill (43 Miles\, 1560 Feet)\n
 \n\n\n\n[/pms-restrict]\n\n\n\n\n\n\n\n\n
CATEGORIES:TV Ride
LOCATION:Udall Park\, 7290 E Tanque Verde Rd\, Tucson\, AZ\, 85715\, United
  States
GEO:32.247979;-110.837765
X-APPLE-STRUCTURED-LOCATION;VALUE=URI;X-ADDRESS=7290 E Tanque Verde Rd\, Tu
 cson\, AZ\, 85715\, United States;X-APPLE-RADIUS=100;X-TITLE=Udall Park:ge
 o:32.247979,-110.837765
END:VEVENT
BEGIN:VTIMEZONE
TZID:America/Phoenix
X-LIC-LOCATION:America/Phoenix
BEGIN:STANDARD
DTSTART:20240322T090000
TZOFFSETFROM:-0700
TZOFFSETTO:-0700
TZNAME:MST
END:STANDARD
END:VTIMEZONE
END:VCALENDAR