BEGIN:VCALENDAR
VERSION:2.0
PRODID:-//wp-events-plugin.com//7.2.3.1//EN
TZID:America/Los_Angeles
X-WR-TIMEZONE:America/Los_Angeles
BEGIN:VEVENT
UID:451@tusvelo.com
DTSTART;TZID=America/Phoenix:20250222T093000
DTEND;TZID=America/Phoenix:20250222T093000
DTSTAMP:20250218T143630Z
URL:https://www.tusvelo.com/events/tv-club-ride-2025-02-22/
SUMMARY:TV - Club Ride
DESCRIPTION:\nSaturday February 22\, 2025\n\n\n\nBefore you join ANY TV rid
 e\, read this page which spells out what is expected from you.\n\n\n\nIf y
 ou are not a Tucson Velo member and want to join us for a ride\, use the C
 ontact page to request links and maps sent via email.\n\n\n\nLink to the r
 oute: (you must be logged in and have active membership to see this next s
 ection)\n\n\n\n[pms-restrict subscription_plans="202"]\n\n\n\n\nRoute: Sta
 rr Pass - Decibel (42 Miles\, 1080 Feet)\n\n\n\n\n[/pms-restrict]\n\n\n\n\
 n\n\n\n\n
CATEGORIES:TV Ride
LOCATION:Rillito Park Race Track\, 4502 N 1st Ave.\, Tucson\, AZ\, 85718\, 
 United States
GEO:32.289604;-110.960211
X-APPLE-STRUCTURED-LOCATION;VALUE=URI;X-ADDRESS=4502 N 1st Ave.\, Tucson\, 
 AZ\, 85718\, United States;X-APPLE-RADIUS=100;X-TITLE=Rillito Park Race Tr
 ack:geo:32.289604,-110.960211
END:VEVENT
BEGIN:VTIMEZONE
TZID:America/Phoenix
X-LIC-LOCATION:America/Phoenix
BEGIN:STANDARD
DTSTART:20240223T093000
TZOFFSETFROM:-0700
TZOFFSETTO:-0700
TZNAME:MST
END:STANDARD
END:VTIMEZONE
END:VCALENDAR