BEGIN:VCALENDAR
VERSION:2.0
PRODID:-//wp-events-plugin.com//7.2.3.1//EN
TZID:America/Los_Angeles
X-WR-TIMEZONE:America/Los_Angeles
BEGIN:VEVENT
UID:446@tusvelo.com
DTSTART;TZID=America/Phoenix:20250217T100000
DTEND;TZID=America/Phoenix:20250217T100000
DTSTAMP:20250129T153725Z
URL:https://www.tusvelo.com/events/tv-club-ride-2025-02-17/
SUMMARY:TV - Club Ride
DESCRIPTION:\nRead the Club’s liability waiver and understand that your p
 articipation in a ride constitutes acceptance of the waiver. The waiver is
  found&nbsp\;here.\n\n\n\nBefore you join ANY TV ride\, read this page whi
 ch spells out what is expected from you.\n\n\n\nPLEASE NOTE NEW START LOCA
 TION FOR THE MONDAY DECIBEL RIDE - You are welcome to join this ride along
  the route where it is convenient for you.\n\n\n\nTV - Decibel Coffee Ride
 \n\n\n\nThis is a casual paced coffee shop ride. The route is south along 
 the Santa Cruz River path to the Mercado Annex. Then we reverse the ride b
 ack to the starting location.\n\n\n\nIf you are not a Tucson Velo member a
 nd want to join us for a ride\, use the Contact page to request links and 
 maps sent via email.\n\n\n\nLink to the route: (you must be logged in and 
 have active membership to see this next section)\n\n\n\n[pms-restrict subs
 cription_plans="202"]\n\n\n\n\nRoute: Decibel Coffee (28 Miles\, 485 Feet)
 \n\n\n\n\n[/pms-restrict]\n\n\n\n\n
ATTACH;FMTTYPE=image/jpeg:https://www.tusvelo.com/wp-content/uploads/2024/
 11/Decibel-scaled.jpg
CATEGORIES:TV Ride
LOCATION:Crossroads Silverbell park\, 7548 North Silverbell Road\, Marana\,
  AZ\, 85743\, United States
GEO:32.348697;-111.093293
X-APPLE-STRUCTURED-LOCATION;VALUE=URI;X-ADDRESS=7548 North Silverbell Road\
 , Marana\, AZ\, 85743\, United States;X-APPLE-RADIUS=100;X-TITLE=Crossroad
 s Silverbell park:geo:32.348697,-111.093293
END:VEVENT
BEGIN:VTIMEZONE
TZID:America/Phoenix
X-LIC-LOCATION:America/Phoenix
BEGIN:STANDARD
DTSTART:20240218T100000
TZOFFSETFROM:-0700
TZOFFSETTO:-0700
TZNAME:MST
END:STANDARD
END:VTIMEZONE
END:VCALENDAR