BEGIN:VCALENDAR
VERSION:2.0
PRODID:-//wp-events-plugin.com//7.2.3.1//EN
TZID:America/Los_Angeles
X-WR-TIMEZONE:America/Los_Angeles
BEGIN:VEVENT
UID:439@tusvelo.com
DTSTART;TZID=America/Phoenix:20250201T093000
DTEND;TZID=America/Phoenix:20250201T093000
DTSTAMP:20250121T155620Z
URL:https://www.tusvelo.com/events/tv-club-ride-2025-02-01-2/
SUMMARY:TV - Club Ride
DESCRIPTION:\nRead the Club’s liability waiver and understand that your p
 articipation in a ride constitutes acceptance of the waiver. The waiver is
  found&nbsp\;here.\n\n\n\nBefore you join ANY PV ride\, read this page whi
 ch spells out what is expected from you.\n\n\n\nSaturday February 1\,2025\
 n\n\n\nIf you are not a Tucson Velo member and want to join us for a ride\
 , use the Contact page to request links and maps sent via email.\n\n\n\nLi
 nk to the route: (you must be logged in and have active membership to see 
 this next section)\n\n\n\n[pms-restrict subscription_plans="202"]\n\n\n\n\
 nSaddlebrooke - RV (50 Miles 2370 Feet)\n\n\n\n\n[/pms-restrict]\n\n\n\n\n
ATTACH;FMTTYPE=image/jpeg:https://www.tusvelo.com/wp-content/uploads/2024/
 12/Village.jpg
CATEGORIES:TV Ride
LOCATION:Village Bakehouse\, 7882 N Oracle Rd.\, Tucson\, AZ\, 85704\, Unit
 ed States
GEO:32.350495;-110.973762
X-APPLE-STRUCTURED-LOCATION;VALUE=URI;X-ADDRESS=7882 N Oracle Rd.\, Tucson\
 , AZ\, 85704\, United States;X-APPLE-RADIUS=100;X-TITLE=Village Bakehouse:
 geo:32.350495,-110.973762
END:VEVENT
BEGIN:VTIMEZONE
TZID:America/Phoenix
X-LIC-LOCATION:America/Phoenix
BEGIN:STANDARD
DTSTART:20240202T093000
TZOFFSETFROM:-0700
TZOFFSETTO:-0700
TZNAME:MST
END:STANDARD
END:VTIMEZONE
END:VCALENDAR