BEGIN:VCALENDAR
VERSION:2.0
PRODID:-//wp-events-plugin.com//7.2.3.1//EN
TZID:America/Los_Angeles
X-WR-TIMEZONE:America/Los_Angeles
BEGIN:VEVENT
UID:501@tusvelo.com
DTSTART;TZID=America/Phoenix:20250602T070000
DTEND;TZID=America/Phoenix:20250602T070000
DTSTAMP:20250523T023409Z
URL:https://www.tusvelo.com/events/tv-club-ride-20/
SUMMARY:TV - Club Ride
DESCRIPTION:\nRead the Club’s liability waiver and understand that your p
 articipation in a ride constitutes acceptance of the waiver. The waiver is
  found&nbsp\;here.\n\n\n\nBefore you join ANY TV ride\, read this page whi
 ch spells out what is expected from you.\n\n\n\nThe start location is Cros
 sroad Park\, Marana\, on the west side of Wheeler Taft Abbet Library.  A s
 econd meetup is at the junction of the Santa Cruz and Rillito paths 17 1/2
  minutes later.  You are welcome to join this ride along the route where i
 t is convenient for you.\n\n\n\nTV - Decibel Coffee Ride\n\n\n\nThis is a 
 casual paced coffee shop ride. The route is south along the Santa Cruz Riv
 er path to the Mercado Annex. Then we reverse the ride back to the startin
 g location.\n\n\n\nIf you are not a Tucson Velo member and want to join us
  for a ride\, use the Contact page to request links and maps sent via emai
 l.\n\n\n\nLink to the route: (you must be logged in and have active member
 ship to see this next section)\n\n\n\n[pms-restrict subscription_plans="20
 2"]\n\n\n\n\nRoute: Decibel Coffee (28 Miles\, 485 Feet)\n\n\n\n\n[/pms-re
 strict]\n\n\n\n\n
ATTACH;FMTTYPE=image/jpeg:https://www.tusvelo.com/wp-content/uploads/2024/
 11/Decibel-scaled.jpg
CATEGORIES:TV Ride
LOCATION:Crossroads Silverbell park\, 7548 North Silverbell Road\, Marana\,
  AZ\, 85743\, United States
GEO:32.348697;-111.093293
X-APPLE-STRUCTURED-LOCATION;VALUE=URI;X-ADDRESS=7548 North Silverbell Road\
 , Marana\, AZ\, 85743\, United States;X-APPLE-RADIUS=100;X-TITLE=Crossroad
 s Silverbell park:geo:32.348697,-111.093293
END:VEVENT
BEGIN:VTIMEZONE
TZID:America/Phoenix
X-LIC-LOCATION:America/Phoenix
BEGIN:STANDARD
DTSTART:20240602T070000
TZOFFSETFROM:-0700
TZOFFSETTO:-0700
TZNAME:MST
END:STANDARD
END:VTIMEZONE
END:VCALENDAR