BEGIN:VCALENDAR
VERSION:2.0
PRODID:-//wp-events-plugin.com//7.2.3.1//EN
TZID:America/Los_Angeles
X-WR-TIMEZONE:America/Los_Angeles
BEGIN:VEVENT
UID:497@tusvelo.com
DTSTART;TZID=America/Phoenix:20250517T073000
DTEND;TZID=America/Phoenix:20250517T073000
DTSTAMP:20250512T200540Z
URL:https://www.tusvelo.com/events/tv-club-ride-17/
SUMMARY:TV - Club Ride
DESCRIPTION:\nRead the Club’s liability waiver and understand that your p
 articipation in a ride constitutes acceptance of the waiver. The waiver is
  found&nbsp\;here.\n\n\n\n\n\n\n\nThis route features a climb up Gates Pas
 s and Starr Pass for a great amount of moderate climbing and beautiful vie
 ws.\n\n\n\nBefore you join ANY TV ride\, read this page which spells out w
 hat is expected from you.\n\n\n\nIf you are not a Tucson Velo member and w
 ant to join us for a ride\, use the Contact page to request links and maps
  sent via email.\n\n\n\nLink to the route: (you must be logged in and have
  active membership to see this next section)\n\n\n\n[pms-restrict subscrip
 tion_plans="202"]\n\n\n\n\nRoute: Gates Pass and Starr Pass (43 miles\, 1\
 ,750 elevation gain)\n\n\n\n\n[/pms-restrict]\n\n\n\n\n\n\n\n\n
CATEGORIES:TV Ride
LOCATION:Ren Coffeehouse\, 4300 N Campbell Ave\, Tucson\, AZ\, 85718\, Unit
 ed States
GEO:32.285319;-110.943352
X-APPLE-STRUCTURED-LOCATION;VALUE=URI;X-ADDRESS=4300 N Campbell Ave\, Tucso
 n\, AZ\, 85718\, United States;X-APPLE-RADIUS=100;X-TITLE=Ren Coffeehouse:
 geo:32.285319,-110.943352
END:VEVENT
BEGIN:VTIMEZONE
TZID:America/Phoenix
X-LIC-LOCATION:America/Phoenix
BEGIN:STANDARD
DTSTART:20240517T073000
TZOFFSETFROM:-0700
TZOFFSETTO:-0700
TZNAME:MST
END:STANDARD
END:VTIMEZONE
END:VCALENDAR