BEGIN:VCALENDAR
VERSION:2.0
PRODID:-//wp-events-plugin.com//7.2.3.1//EN
TZID:America/Los_Angeles
X-WR-TIMEZONE:America/Los_Angeles
BEGIN:VEVENT
UID:495@tusvelo.com
DTSTART;TZID=America/Phoenix:20250519T073000
DTEND;TZID=America/Phoenix:20250519T073000
DTSTAMP:20250509T180749Z
URL:https://www.tusvelo.com/events/tv-club-ride-16/
SUMMARY:TV - Club Ride
DESCRIPTION:\nRead the Club’s liability waiver and understand that your p
 articipation in a ride constitutes acceptance of the waiver. The waiver is
  found&nbsp\;here.\n\n\n\nBefore you join ANY TV ride\, read this page whi
 ch spells out what is expected from you.\n\n\n\nPlease note the start loca
 tion is Crossroads Park in Marana\, west/left side of Wheeler Taft Abbett 
 Library - You are welcome to join this ride along the route where it is co
 nvenient for you.\n\n\n\nTV - Decibel Coffee Ride\n\n\n\nThis is a casual 
 paced coffee shop ride. The route is south along the Santa Cruz River path
  to the Mercado to La Estrella Bakery or Mercado Annex to Decibel Coffee. 
 Then we reverse the ride back to the starting location. Note the revised r
 oute avoids the Grant to Silverbell section of the Santa Cruz Path.\n\n\n\
 nIf you are not a Tucson Velo member and want to join us for a ride\, use 
 the Contact page to request links and maps sent via email.\n\n\n\nLink to 
 the route: (you must be logged in and have active membership to see this n
 ext section)\n\n\n\n[pms-restrict subscription_plans="202"]\n\n\n\n\nRoute
 : Decibel Coffee (30 Miles\, 500 Feet)\n\n\n\n\n[/pms-restrict]\n\n\n\n\n
CATEGORIES:TV Ride
LOCATION:Crossroads Silverbell park\, 7548 North Silverbell Road\, Marana\,
  AZ\, 85743\, United States
GEO:32.348697;-111.093293
X-APPLE-STRUCTURED-LOCATION;VALUE=URI;X-ADDRESS=7548 North Silverbell Road\
 , Marana\, AZ\, 85743\, United States;X-APPLE-RADIUS=100;X-TITLE=Crossroad
 s Silverbell park:geo:32.348697,-111.093293
END:VEVENT
BEGIN:VTIMEZONE
TZID:America/Phoenix
X-LIC-LOCATION:America/Phoenix
BEGIN:STANDARD
DTSTART:20240519T073000
TZOFFSETFROM:-0700
TZOFFSETTO:-0700
TZNAME:MST
END:STANDARD
END:VTIMEZONE
END:VCALENDAR