BEGIN:VCALENDAR
VERSION:2.0
PRODID:-//wp-events-plugin.com//7.2.3.1//EN
TZID:America/Los_Angeles
X-WR-TIMEZONE:America/Los_Angeles
BEGIN:VEVENT
UID:494@tusvelo.com
DTSTART;TZID=America/Phoenix:20250512T073000
DTEND;TZID=America/Phoenix:20250512T073000
DTSTAMP:20250503T205826Z
URL:https://www.tusvelo.com/events/tv-club-ride-15/
SUMMARY:TV - Club Ride
DESCRIPTION:\nRead the Club’s liability waiver and understand that your p
 articipation in a ride constitutes acceptance of the waiver. The waiver is
  found&nbsp\;here.\n\n\n\nBefore you join ANY TV ride\, read this page whi
 ch spells out what is expected from you.\n\n\n\n\n\n\n\nTV - Ren Coffee Ri
 de\n\n\n\nThis is a casual paced coffee shop ride. The route is south alon
 g the Santa Cruz River path to the Rillito Path continuing to Ren Coffee i
 n St Phillips Plaza. Then we reverse the ride back to the starting locatio
 n.\n\n\n\nIf you are not a Tucson Velo member and want to join us for a ri
 de\, use the Contact page to request links and maps sent via email.\n\n\n\
 nLink to the route: (you must be logged in and have active membership to s
 ee this next section)\n\n\n\n[pms-restrict subscription_plans="202"]\n\n\n
 \n\nRoute: Ren Coffee (25 Miles\, 330 Feet)\n\n\n\n\n[/pms-restrict]\n\n\n
 \n\n
CATEGORIES:TV Ride
LOCATION:Crossroads Silverbell park\, 7548 North Silverbell Road\, Marana\,
  AZ\, 85743\, United States
GEO:32.348697;-111.093293
X-APPLE-STRUCTURED-LOCATION;VALUE=URI;X-ADDRESS=7548 North Silverbell Road\
 , Marana\, AZ\, 85743\, United States;X-APPLE-RADIUS=100;X-TITLE=Crossroad
 s Silverbell park:geo:32.348697,-111.093293
END:VEVENT
BEGIN:VTIMEZONE
TZID:America/Phoenix
X-LIC-LOCATION:America/Phoenix
BEGIN:STANDARD
DTSTART:20240512T073000
TZOFFSETFROM:-0700
TZOFFSETTO:-0700
TZNAME:MST
END:STANDARD
END:VTIMEZONE
END:VCALENDAR