BEGIN:VCALENDAR
VERSION:2.0
PRODID:-//wp-events-plugin.com//7.2.3.1//EN
TZID:America/Los_Angeles
X-WR-TIMEZONE:America/Los_Angeles
BEGIN:VEVENT
UID:493@tusvelo.com
DTSTART;TZID=America/Phoenix:20250510T070000
DTEND;TZID=America/Phoenix:20250510T070000
DTSTAMP:20250509T190101Z
URL:https://www.tusvelo.com/events/tv-club-ride-14/
SUMMARY:TV - Club Ride
DESCRIPTION:\nWednesday\, April 23\, 2025\n\n\n\nBefore you join ANY TV rid
 e\, read this page which spells out what is expected from you.\n\n\n\nIf y
 ou are not a Tucson Velo member and want to join us for a ride\, use the C
 ontact page to request links and maps sent via email.\n\n\n\nLink to the r
 oute: (you must be logged in and have active membership to see this next s
 ection)\n\n\n\n[pms-restrict subscription_plans="202"]\n\n\n\n\nRoute: Sad
 dlebrooke - Brueggers (40 Miles\, 2000 Feet)\n\n\n\n\n[/pms-restrict]\n\n\
 n\n\n\n\n\n\n
CATEGORIES:TV Ride
LOCATION:Brueggers Bagels\, Address     11165 N La Canada Dr\, Tucson\, AZ\
 , 85737\, United States
GEO:32.409223;-110.996396
X-APPLE-STRUCTURED-LOCATION;VALUE=URI;X-ADDRESS=Address     11165 N La Cana
 da Dr\, Tucson\, AZ\, 85737\, United States;X-APPLE-RADIUS=100;X-TITLE=Bru
 eggers Bagels:geo:32.409223,-110.996396
END:VEVENT
BEGIN:VTIMEZONE
TZID:America/Phoenix
X-LIC-LOCATION:America/Phoenix
BEGIN:STANDARD
DTSTART:20240510T070000
TZOFFSETFROM:-0700
TZOFFSETTO:-0700
TZNAME:MST
END:STANDARD
END:VTIMEZONE
END:VCALENDAR