BEGIN:VCALENDAR
VERSION:2.0
PRODID:-//wp-events-plugin.com//7.2.3.1//EN
TZID:America/Los_Angeles
X-WR-TIMEZONE:America/Los_Angeles
BEGIN:VEVENT
UID:426@tusvelo.com
DTSTART;TZID=America/Phoenix:20250112T140000
DTEND;TZID=America/Phoenix:20250112T163000
DTSTAMP:20241224T144152Z
URL:https://www.tusvelo.com/events/tv-club-open-house-2025-01-12/
SUMMARY:TV - Club Open House
DESCRIPTION:\nTucson Velo is having an Open House gathering for members\, f
 amilies and friends. Join us for an afternoon gathering to get to know fel
 low club members. Learn more about the Club. Enjoy the afternoon sun.\n\n\
 n\n\n\n\n\nSunday January 12\, 2025\n\n\n\nTucson Velo Gathering\n\n\n\nIf
  you are not a Tucson Velo member\, come join us and meet members of the c
 lub.\n\n\n\nThere is no ride planned in conjunction with the Open House.\n
 \n\n\n\n\n\n\n[pms-restrict subscription_plans="202"]\n\n\n\n\n\n\n\n\n\n[
 /pms-restrict]\n\n\n\n\n
CATEGORIES:Club Social
LOCATION:Wagon's West RV Park\, 801 W Limberlost Dr\,\, Tucson\, AZ\, 85705
 \, United States
GEO:32.289124;-110.987951
X-APPLE-STRUCTURED-LOCATION;VALUE=URI;X-ADDRESS=801 W Limberlost Dr\,\, Tuc
 son\, AZ\, 85705\, United States;X-APPLE-RADIUS=100;X-TITLE=Wagon's West R
 V Park:geo:32.289124,-110.987951
END:VEVENT
BEGIN:VTIMEZONE
TZID:America/Phoenix
X-LIC-LOCATION:America/Phoenix
BEGIN:STANDARD
DTSTART:20240113T140000
TZOFFSETFROM:-0700
TZOFFSETTO:-0700
TZNAME:MST
END:STANDARD
END:VTIMEZONE
END:VCALENDAR