BEGIN:VCALENDAR
VERSION:2.0
PRODID:-//wp-events-plugin.com//7.2.3.1//EN
TZID:America/Los_Angeles
X-WR-TIMEZONE:America/Los_Angeles
BEGIN:VEVENT
UID:567@tusvelo.com
DTSTART;TZID=America/Phoenix:20260228T083000
DTEND;TZID=America/Phoenix:20260228T083000
DTSTAMP:20260219T174836Z
URL:https://www.tusvelo.com/events/tv-adventure-ride-2026-02-28/
SUMMARY:TV - Adventure Ride - 2 options
DESCRIPTION:\nSaturday February 28\, 2026\n\n\n\nBefore you join ANY TV rid
 e\, read this page which spells out what is expected from you.\n\n\n\nIf y
 ou are not a Tucson Velo member and want to join us for a ride\, use the C
 ontact page to request links and maps sent via email.\n\n\n\nLink to the r
 oute: (you must be logged in and have active membership to see this next s
 ection)\n\n\n\n[pms-restrict subscription_plans="202"]\n\n\n\n\nRoute: Par
 k Link from Trico (68 Miles\, 1480 Feet)\n\n\n\nRoute: Park Link (Short) (
 57 Miles\, 1360 Feet)Start at San Lucas Park\, 14040 N Adonis Rd\, Marana 
 AZ 85658\n\n\n\n\n\n\n\n\n[/pms-restrict]\n\n\n\n\n\n\n\n\n
CATEGORIES:TV Ride
LOCATION:Trico Offices\, 8600 W Tangerine Rd \, Marana\, Arizona\, 85658\, 
 United States
GEO:32.426965;-111.149992
X-APPLE-STRUCTURED-LOCATION;VALUE=URI;X-ADDRESS=8600 W Tangerine Rd \, Mara
 na\, Arizona\, 85658\, United States;X-APPLE-RADIUS=100;X-TITLE=Trico Offi
 ces:geo:32.426965,-111.149992
END:VEVENT
BEGIN:VTIMEZONE
TZID:America/Phoenix
X-LIC-LOCATION:America/Phoenix
BEGIN:STANDARD
DTSTART:20250228T083000
TZOFFSETFROM:-0700
TZOFFSETTO:-0700
TZNAME:MST
END:STANDARD
END:VTIMEZONE
END:VCALENDAR